BEGIN:VCALENDAR
VERSION:2.0
PRODID:-//Hamilton Pride - ECPv4.2//NONSGML v1.0//EN
CALSCALE:GREGORIAN
METHOD:PUBLISH
X-WR-CALNAME:Hamilton Pride
X-ORIGINAL-URL:https://hamiltonpride.co.nz
X-WR-CALDESC:Events for Hamilton Pride
BEGIN:VEVENT
DTSTART;TZID=UTC+0:20190909T170000
DTEND;TZID=UTC+0:20190909T180000
DTSTAMP:20191222T151958
CREATED:20190825T050005
LAST-MODIFIED:20190825T050939
UID:630-1568048400-1568052000@hamiltonpride.co.nz
SUMMARY:WaQuY AGM
DESCRIPTION:
URL:https://hamiltonpride.co.nz/event/waquy-agm/
LOCATION:9 Ward Lane\, Hamilton\, New Zealand
ATTACH;FMTTYPE=image/jpeg:https://hamiltonpride.co.nz/wp-content/uploads/2019/08/WQ-AGM.jpg
END:VEVENT
END:VCALENDAR