BEGIN:VCALENDAR
VERSION:2.0
PRODID:-//Hamilton Pride - ECPv4.2//NONSGML v1.0//EN
CALSCALE:GREGORIAN
METHOD:PUBLISH
X-WR-CALNAME:Hamilton Pride
X-ORIGINAL-URL:https://hamiltonpride.co.nz
X-WR-CALDESC:Events for Hamilton Pride
BEGIN:VEVENT
DTSTART;TZID=UTC+0:20190922T140000
DTEND;TZID=UTC+0:20190922T160000
DTSTAMP:20191222T151806
CREATED:20190820T100807
LAST-MODIFIED:20190821T151120
UID:613-1569160800-1569168000@hamiltonpride.co.nz
SUMMARY:Rainbow Warriors - Softball Muster
DESCRIPTION:Everyone welcome\, no experience needed. There is currently no "mens" Rainbow Warriors team\, but there is no-one stopping it happen\, if you want to start a team for the mens league contact Melissa to see what help we can offer\n\n
URL:https://hamiltonpride.co.nz/event/rainbow-warriors-softball-muster/
LOCATION:John Webb Drive\, Hamilton\, New Zealand
ATTACH;FMTTYPE=image/jpeg:https://hamiltonpride.co.nz/wp-content/uploads/2019/08/muster.jpg
END:VEVENT
END:VCALENDAR