BEGIN:VCALENDAR
VERSION:2.0
PRODID:-//Hamilton Pride - ECPv4.2//NONSGML v1.0//EN
CALSCALE:GREGORIAN
METHOD:PUBLISH
X-WR-CALNAME:Hamilton Pride
X-ORIGINAL-URL:https://hamiltonpride.co.nz
X-WR-CALDESC:Events for Hamilton Pride
BEGIN:VEVENT
DTSTART;TZID=UTC+0:20160916T183000
DTEND;TZID=UTC+0:20160916T183000
DTSTAMP:20191222T152553
CREATED:20160727T083953
LAST-MODIFIED:20160816T082406
UID:211-1474050600-1474050600@hamiltonpride.co.nz
SUMMARY:Glam! evening
DESCRIPTION: \n\nAltitude @ gravity and Hamilton Pride present an Evening of Glam!\n\n \n\nWith performances from\n\nChanel D'Vinci\n\nVictoria Secretzz\n\nKola Gin\n\nChiChi La'Qua\n\n'The Lady of the Lakes' Nanu Turner\n\n \n\nMC Hostess - The Outrageous Miss Ribena\n\nSpecial Guest Singer – Vicki-Lee\n\n \n\nFriday 16th September\n\nDoors open at 6.30pm\, Shows start at 7.30pm\n\nAltitude @ Gravity Bar\, 30 Alexandra St\, Hamilton\n\n \n\nLimited tickets $40 per person\n\nTickets available by payment to Hamilton Pride Inc
URL:https://hamiltonpride.co.nz/event/glam-evening/
LOCATION:30 Alexandra St\, Hamilton\, New Zealand
END:VEVENT
END:VCALENDAR