BEGIN:VCALENDAR
VERSION:2.0
PRODID:-//Hamilton Pride - ECPv4.2//NONSGML v1.0//EN
CALSCALE:GREGORIAN
METHOD:PUBLISH
X-WR-CALNAME:Hamilton Pride
X-ORIGINAL-URL:https://hamiltonpride.co.nz
X-WR-CALDESC:Events for Hamilton Pride
BEGIN:VEVENT
DTSTART;TZID=UTC+0:20190911T130000
DTEND;TZID=UTC+0:20190911T140000
DTSTAMP:20191222T152005
CREATED:20190821T155445
LAST-MODIFIED:20190821T155445
UID:626-1568206800-1568210400@hamiltonpride.co.nz
SUMMARY:Fairy Hour - UniQ - On campus event
DESCRIPTION:Look out for the condom fairy prancing around the University Campus during cultural hour...who knows what magic could happen
URL:https://hamiltonpride.co.nz/event/fairy-hour-uniq-on-campus-event/
LOCATION:Hillcrest\, Hamilton\, 3216\, New Zealand
ATTACH;FMTTYPE=image/jpeg:https://hamiltonpride.co.nz/wp-content/uploads/2019/08/41101863_719392041750405_4951737502877614080_o.jpg
END:VEVENT
END:VCALENDAR